BEGIN:VCALENDAR
VERSION:2.0
PRODID:-//PYVOBJECT//NONSGML Version 0.9.9//EN
BEGIN:VTIMEZONE
TZID:CET
BEGIN:STANDARD
DTSTART:20001029T040000
RRULE:FREQ=YEARLY;BYDAY=-1SU;BYMONTH=10
TZNAME:CET
TZOFFSETFROM:+0200
TZOFFSETTO:+0100
END:STANDARD
BEGIN:DAYLIGHT
DTSTART:20000326T030000
RRULE:FREQ=YEARLY;BYDAY=-1SU;BYMONTH=3
TZNAME:CEST
TZOFFSETFROM:+0100
TZOFFSETTO:+0200
END:DAYLIGHT
END:VTIMEZONE
BEGIN:VEVENT
UID:event-244
DTSTART;TZID=CET:20260324T190000
DTEND;TZID=CET:20260324T210000
DESCRIPTION:Elke Hussel liest aus ihrem neuen Buch „Der Freiberger Silben
 weg. Ein Lyrik-Bilder-Buch“ - Sonstiges
DTSTAMP:20260422T034218Z
GEO:52.477802,13.5995923
LOCATION:Winklerstraße 3\,  
SUMMARY:Elke Hussel liest aus ihrem neuen Buch „Der Freiberger Silbenweg.
  Ein Lyrik-Bilder-Buch“
URL:https://freiberger-alumni-netzwerk.de/events/244/
END:VEVENT
END:VCALENDAR
