BEGIN:VCALENDAR
VERSION:2.0
PRODID:-//PYVOBJECT//NONSGML Version 0.9.9//EN
BEGIN:VTIMEZONE
TZID:CET
BEGIN:STANDARD
DTSTART:20001029T040000
RRULE:FREQ=YEARLY;BYDAY=-1SU;BYMONTH=10
TZNAME:CET
TZOFFSETFROM:+0200
TZOFFSETTO:+0100
END:STANDARD
BEGIN:DAYLIGHT
DTSTART:20000326T030000
RRULE:FREQ=YEARLY;BYDAY=-1SU;BYMONTH=3
TZNAME:CEST
TZOFFSETFROM:+0100
TZOFFSETTO:+0200
END:DAYLIGHT
END:VTIMEZONE
BEGIN:VEVENT
UID:event-246
DTSTART;TZID=CET:20260603T100000
DTEND;TZID=CET:20260609T170000
DESCRIPTION:77. BHT - FREIBERGER UNIVERSITÄTSFORUM - Veranstaltung
DTSTAMP:20260420T231520Z
GEO:50.9184158,13.3406682
LOCATION:Akademiestraße 6\, 09599 Freiberg
SUMMARY:77. BHT - FREIBERGER UNIVERSITÄTSFORUM
URL:https://freiberger-alumni-netzwerk.de/events/246/
END:VEVENT
END:VCALENDAR
