BEGIN:VCALENDAR
VERSION:2.0
PRODID:-//PYVOBJECT//NONSGML Version 0.9.9//EN
BEGIN:VTIMEZONE
TZID:CET
BEGIN:STANDARD
DTSTART:20001029T040000
RRULE:FREQ=YEARLY;BYDAY=-1SU;BYMONTH=10
TZNAME:CET
TZOFFSETFROM:+0200
TZOFFSETTO:+0100
END:STANDARD
BEGIN:DAYLIGHT
DTSTART:20000326T030000
RRULE:FREQ=YEARLY;BYDAY=-1SU;BYMONTH=3
TZNAME:CEST
TZOFFSETFROM:+0100
TZOFFSETTO:+0200
END:DAYLIGHT
END:VTIMEZONE
BEGIN:VEVENT
UID:event-251
DTSTART;TZID=CET:20260919T110000
DTEND;TZID=CET:20260919T220000
DESCRIPTION:Absolvententreffen der Fakultät für Chemie\, Physik und Biowi
 ssenschaften der TU Bergakademie Freiberg - Veranstaltung
DTSTAMP:20260423T114303Z
GEO:50.9235731,13.3417828
LOCATION:Winklerstraße 3\, 09599 Freiberg
SUMMARY:Absolvententreffen der Fakultät für Chemie\, Physik und Biowissen
 schaften der TU Bergakademie Freiberg
URL:https://freiberger-alumni-netzwerk.de/events/251/
END:VEVENT
END:VCALENDAR
