BEGIN:VCALENDAR
VERSION:2.0
PRODID:-//PYVOBJECT//NONSGML Version 0.9.9//EN
BEGIN:VTIMEZONE
TZID:CET
BEGIN:STANDARD
DTSTART:20001029T040000
RRULE:FREQ=YEARLY;BYDAY=-1SU;BYMONTH=10
TZNAME:CET
TZOFFSETFROM:+0200
TZOFFSETTO:+0100
END:STANDARD
BEGIN:DAYLIGHT
DTSTART:20000326T030000
RRULE:FREQ=YEARLY;BYDAY=-1SU;BYMONTH=3
TZNAME:CEST
TZOFFSETFROM:+0100
TZOFFSETTO:+0200
END:DAYLIGHT
END:VTIMEZONE
BEGIN:VEVENT
UID:event-63
DTSTART;TZID=CET:20200116T190000
DTEND;TZID=CET:20200116T210000
DESCRIPTION:Studentischer Gesprächsabend: "Die Neue Seidenstraße: Chance 
 oder Falle für die Welt?" - Vortrag
DTSTAMP:20260423T042912Z
GEO:50.91612,13.342030000000022
LOCATION:Petersstraße 5\, Alte Mensa Freiberg
SUMMARY:Studentischer Gesprächsabend: "Die Neue Seidenstraße: Chance oder
  Falle für die Welt?"
URL:https://freiberger-alumni-netzwerk.de/events/63/
END:VEVENT
END:VCALENDAR
